BEGIN:VCALENDAR
VERSION:2.0
PRODID:-//Drupal//recurring_events_ical//2.0//EN
BEGIN:VEVENT
UID:074333f6-4670-4529-9e9a-4464051e9045@events.stage.louisville.edu
DTSTAMP:20260424T162535Z
DTSTART:20260921T110000Z
DTEND:20260921T110000Z
SUMMARY:Testing Services
CONTACT:Tammy Jones-Scrogham\, 502-852-6606\, email:testing@louisville.edu
DESCRIPTION:Will you please add Testing Services as part of the offices lis
 ted in Davidson Hall?  Thank you!
URL:https://events.stage.louisville.edu/events/testing-services/2026-09-21
END:VEVENT
END:VCALENDAR