BEGIN:VCALENDAR
VERSION:2.0
PRODID:-//Drupal//recurring_events_ical//2.0//EN
BEGIN:VEVENT
UID:8d189452-7f05-46e7-b49a-0a782084f6ab@events.stage.louisville.edu
DTSTAMP:20260424T162324Z
DTSTART:20260922T110000Z
DTEND:20260922T110000Z
SUMMARY:Testing Services
CONTACT:Tammy Jones-Scrogham\, 502-852-6606\, email:testing@louisville.edu
DESCRIPTION:Will you please add Testing Services as part of the offices lis
 ted in Davidson Hall?  Thank you!
URL:https://events.stage.louisville.edu/events/testing-services/2026-09-22
END:VEVENT
END:VCALENDAR