BEGIN:VCALENDAR
VERSION:2.0
PRODID:-//Drupal//recurring_events_ical//2.0//EN
BEGIN:VEVENT
UID:4c53752f-3a0d-457e-9644-e1bbd98aa11b@events.stage.louisville.edu
DTSTAMP:20260424T180053Z
DTSTART:20260923T110000Z
DTEND:20260923T110000Z
SUMMARY:Testing Services
CONTACT:Tammy Jones-Scrogham\, 502-852-6606\, email:testing@louisville.edu
DESCRIPTION:Will you please add Testing Services as part of the offices lis
 ted in Davidson Hall?  Thank you!
URL:https://events.stage.louisville.edu/events/testing-services/2026-09-23
END:VEVENT
END:VCALENDAR