BEGIN:VCALENDAR
VERSION:2.0
PRODID:-//Drupal//recurring_events_ical//2.0//EN
BEGIN:VEVENT
UID:5459f15c-a8eb-420c-9a06-2ba066d11143@events.stage.louisville.edu
DTSTAMP:20260424T184858Z
DTSTART:20260924T110000Z
DTEND:20260924T110000Z
SUMMARY:Testing Services
CONTACT:Tammy Jones-Scrogham\, 502-852-6606\, email:testing@louisville.edu
DESCRIPTION:Will you please add Testing Services as part of the offices lis
 ted in Davidson Hall?  Thank you!
URL:https://events.stage.louisville.edu/events/testing-services/2026-09-24
END:VEVENT
END:VCALENDAR