BEGIN:VCALENDAR
VERSION:2.0
PRODID:-//Drupal//recurring_events_ical//2.0//EN
BEGIN:VEVENT
UID:e5d4aedb-3958-4db7-9e1b-a3732e8c648f@events.stage.louisville.edu
DTSTAMP:20260424T162323Z
DTSTART:20260928T110000Z
DTEND:20260928T110000Z
SUMMARY:Testing Services
CONTACT:Tammy Jones-Scrogham\, 502-852-6606\, email:testing@louisville.edu
DESCRIPTION:Will you please add Testing Services as part of the offices lis
 ted in Davidson Hall?  Thank you!
URL:https://events.stage.louisville.edu/events/testing-services/2026-09-28
END:VEVENT
END:VCALENDAR