BEGIN:VCALENDAR
VERSION:2.0
PRODID:-//Drupal//recurring_events_ical//2.0//EN
BEGIN:VEVENT
UID:5e8eecad-a59a-48b5-bfd7-98a15e6defd5@events.stage.louisville.edu
DTSTAMP:20260424T172757Z
DTSTART:20260929T110000Z
DTEND:20260929T110000Z
SUMMARY:Testing Services
CONTACT:Tammy Jones-Scrogham\, 502-852-6606\, email:testing@louisville.edu
DESCRIPTION:Will you please add Testing Services as part of the offices lis
 ted in Davidson Hall?  Thank you!
URL:https://events.stage.louisville.edu/events/testing-services/2026-09-29
END:VEVENT
END:VCALENDAR