BEGIN:VCALENDAR
VERSION:2.0
PRODID:-//Drupal//recurring_events_ical//2.0//EN
BEGIN:VEVENT
UID:4d79f313-b158-4c6d-aa0d-9cf3959548a6@events.stage.louisville.edu
DTSTAMP:20260424T162038Z
DTSTART:20261006T110000Z
DTEND:20261006T110000Z
SUMMARY:Testing Services
CONTACT:Tammy Jones-Scrogham\, 502-852-6606\, email:testing@louisville.edu
DESCRIPTION:Will you please add Testing Services as part of the offices lis
 ted in Davidson Hall?  Thank you!
URL:https://events.stage.louisville.edu/events/testing-services/2026-10-06
END:VEVENT
END:VCALENDAR