BEGIN:VCALENDAR
VERSION:2.0
PRODID:-//Drupal//recurring_events_ical//2.0//EN
BEGIN:VEVENT
UID:f43f0a5d-49a4-4243-8a99-a81c486c4280@events.stage.louisville.edu
DTSTAMP:20260424T162326Z
DTSTART:20261014T110000Z
DTEND:20261014T110000Z
SUMMARY:Testing Services
CONTACT:Tammy Jones-Scrogham\, 502-852-6606\, email:testing@louisville.edu
DESCRIPTION:Will you please add Testing Services as part of the offices lis
 ted in Davidson Hall?  Thank you!
URL:https://events.stage.louisville.edu/events/testing-services/2026-10-14
END:VEVENT
END:VCALENDAR