BEGIN:VCALENDAR
VERSION:2.0
PRODID:-//Drupal//recurring_events_ical//2.0//EN
BEGIN:VEVENT
UID:c12ed2c7-4be1-4e84-8d4a-8d24c6e7c263@events.stage.louisville.edu
DTSTAMP:20260424T162226Z
DTSTART:20261020T110000Z
DTEND:20261020T110000Z
SUMMARY:Testing Services
CONTACT:Tammy Jones-Scrogham\, 502-852-6606\, email:testing@louisville.edu
DESCRIPTION:Will you please add Testing Services as part of the offices lis
 ted in Davidson Hall?  Thank you!
URL:https://events.stage.louisville.edu/events/testing-services/2026-10-20
END:VEVENT
END:VCALENDAR