BEGIN:VCALENDAR
VERSION:2.0
PRODID:-//Drupal//recurring_events_ical//2.0//EN
BEGIN:VEVENT
UID:da6d48c8-68fd-486e-99d9-14d82c7dac77@events.stage.louisville.edu
DTSTAMP:20260424T172900Z
DTSTART:20261029T110000Z
DTEND:20261029T110000Z
SUMMARY:Testing Services
CONTACT:Tammy Jones-Scrogham\, 502-852-6606\, email:testing@louisville.edu
DESCRIPTION:Will you please add Testing Services as part of the offices lis
 ted in Davidson Hall?  Thank you!
URL:https://events.stage.louisville.edu/events/testing-services/2026-10-29
END:VEVENT
END:VCALENDAR