BEGIN:VCALENDAR
VERSION:2.0
PRODID:-//Drupal//recurring_events_ical//2.0//EN
BEGIN:VEVENT
UID:fa17dcf3-1c2b-4b35-9a18-81a7ba902e0e@events.stage.louisville.edu
DTSTAMP:20260424T162614Z
DTSTART:20261102T120000Z
DTEND:20261102T120000Z
SUMMARY:Testing Services
CONTACT:Tammy Jones-Scrogham\, 502-852-6606\, email:testing@louisville.edu
DESCRIPTION:Will you please add Testing Services as part of the offices lis
 ted in Davidson Hall?  Thank you!
URL:https://events.stage.louisville.edu/events/testing-services/2026-11-02
END:VEVENT
END:VCALENDAR