BEGIN:VCALENDAR
VERSION:2.0
PRODID:-//Drupal//recurring_events_ical//2.0//EN
BEGIN:VEVENT
UID:fdc2527a-7fd0-491b-abc3-1fff76ffdc3a@events.stage.louisville.edu
DTSTAMP:20260424T162253Z
DTSTART:20261104T120000Z
DTEND:20261104T120000Z
SUMMARY:Testing Services
CONTACT:Tammy Jones-Scrogham\, 502-852-6606\, email:testing@louisville.edu
DESCRIPTION:Will you please add Testing Services as part of the offices lis
 ted in Davidson Hall?  Thank you!
URL:https://events.stage.louisville.edu/events/testing-services/2026-11-04
END:VEVENT
END:VCALENDAR