BEGIN:VCALENDAR
VERSION:2.0
PRODID:-//Drupal//recurring_events_ical//2.0//EN
BEGIN:VEVENT
UID:98f0f371-f5b1-4b81-8627-21e57108a642@events.stage.louisville.edu
DTSTAMP:20260424T175930Z
DTSTART:20261110T120000Z
DTEND:20261110T120000Z
SUMMARY:Testing Services
CONTACT:Tammy Jones-Scrogham\, 502-852-6606\, email:testing@louisville.edu
DESCRIPTION:Will you please add Testing Services as part of the offices lis
 ted in Davidson Hall?  Thank you!
URL:https://events.stage.louisville.edu/events/testing-services/2026-11-10
END:VEVENT
END:VCALENDAR