BEGIN:VCALENDAR
VERSION:2.0
PRODID:-//Drupal//recurring_events_ical//2.0//EN
BEGIN:VEVENT
UID:8d2d3ad3-8ba2-461c-aac8-ad71f092fa9c@events.stage.louisville.edu
DTSTAMP:20260424T192331Z
DTSTART:20261116T120000Z
DTEND:20261116T120000Z
SUMMARY:Testing Services
CONTACT:Tammy Jones-Scrogham\, 502-852-6606\, email:testing@louisville.edu
DESCRIPTION:Will you please add Testing Services as part of the offices lis
 ted in Davidson Hall?  Thank you!
URL:https://events.stage.louisville.edu/events/testing-services/2026-11-16
END:VEVENT
END:VCALENDAR