BEGIN:VCALENDAR
VERSION:2.0
PRODID:-//Drupal//recurring_events_ical//2.0//EN
BEGIN:VEVENT
UID:27fbde7b-108c-45e2-a61f-5a098c2c76df@events.stage.louisville.edu
DTSTAMP:20260424T162430Z
DTSTART:20261125T120000Z
DTEND:20261125T120000Z
SUMMARY:Testing Services
CONTACT:Tammy Jones-Scrogham\, 502-852-6606\, email:testing@louisville.edu
DESCRIPTION:Will you please add Testing Services as part of the offices lis
 ted in Davidson Hall?  Thank you!
URL:https://events.stage.louisville.edu/events/testing-services/2026-11-25
END:VEVENT
END:VCALENDAR