BEGIN:VCALENDAR
VERSION:2.0
PRODID:-//Drupal//recurring_events_ical//2.0//EN
BEGIN:VEVENT
UID:41432199-cb1b-4dfc-a893-eb659137e922@events.stage.louisville.edu
DTSTAMP:20260424T180012Z
DTSTART:20261214T120000Z
DTEND:20261214T120000Z
SUMMARY:Testing Services
CONTACT:Tammy Jones-Scrogham\, 502-852-6606\, email:testing@louisville.edu
DESCRIPTION:Will you please add Testing Services as part of the offices lis
 ted in Davidson Hall?  Thank you!
URL:https://events.stage.louisville.edu/events/testing-services/2026-12-14
END:VEVENT
END:VCALENDAR