BEGIN:VCALENDAR
VERSION:2.0
PRODID:-//Drupal//recurring_events_ical//2.0//EN
BEGIN:VEVENT
UID:46eb5dd1-5b53-4d26-9871-56fe33f945aa@events.stage.louisville.edu
DTSTAMP:20260424T180558Z
DTSTART:20261215T120000Z
DTEND:20261215T120000Z
SUMMARY:Testing Services
CONTACT:Tammy Jones-Scrogham\, 502-852-6606\, email:testing@louisville.edu
DESCRIPTION:Will you please add Testing Services as part of the offices lis
 ted in Davidson Hall?  Thank you!
URL:https://events.stage.louisville.edu/events/testing-services/2026-12-15
END:VEVENT
END:VCALENDAR