BEGIN:VCALENDAR
VERSION:2.0
PRODID:-//Drupal//recurring_events_ical//2.0//EN
BEGIN:VEVENT
UID:c2ba9ff8-b47a-4866-9881-5127cef0fc5b@events.stage.louisville.edu
DTSTAMP:20260424T162407Z
DTSTART:20261217T120000Z
DTEND:20261217T120000Z
SUMMARY:Testing Services
CONTACT:Tammy Jones-Scrogham\, 502-852-6606\, email:testing@louisville.edu
DESCRIPTION:Will you please add Testing Services as part of the offices lis
 ted in Davidson Hall?  Thank you!
URL:https://events.stage.louisville.edu/events/testing-services/2026-12-17
END:VEVENT
END:VCALENDAR