BEGIN:VCALENDAR
VERSION:2.0
PRODID:-//Drupal//recurring_events_ical//2.0//EN
BEGIN:VEVENT
UID:c8c07eb4-8060-47b5-9849-97d70050d392@events.stage.louisville.edu
DTSTAMP:20260424T162328Z
DTSTART:20261224T120000Z
DTEND:20261224T120000Z
SUMMARY:Testing Services
CONTACT:Tammy Jones-Scrogham\, 502-852-6606\, email:testing@louisville.edu
DESCRIPTION:Will you please add Testing Services as part of the offices lis
 ted in Davidson Hall?  Thank you!
URL:https://events.stage.louisville.edu/events/testing-services/2026-12-24
END:VEVENT
END:VCALENDAR