BEGIN:VCALENDAR
VERSION:2.0
PRODID:-//Drupal//recurring_events_ical//2.0//EN
BEGIN:VEVENT
UID:f48892cd-3af1-47ad-889a-b40ef6fadc19@events.stage.louisville.edu
DTSTAMP:20260424T175922Z
DTSTART:20261230T120000Z
DTEND:20261230T120000Z
SUMMARY:Testing Services
CONTACT:Tammy Jones-Scrogham\, 502-852-6606\, email:testing@louisville.edu
DESCRIPTION:Will you please add Testing Services as part of the offices lis
 ted in Davidson Hall?  Thank you!
URL:https://events.stage.louisville.edu/events/testing-services/2026-12-30
END:VEVENT
END:VCALENDAR