BEGIN:VCALENDAR
VERSION:2.0
PRODID:-//Drupal//recurring_events_ical//2.0//EN
BEGIN:VEVENT
UID:cc430361-510f-4b80-b116-77d10ff0126c@events.stage.louisville.edu
DTSTAMP:20260424T162011Z
DTSTART:20270120T120000Z
DTEND:20270120T120000Z
SUMMARY:Testing Services
CONTACT:Tammy Jones-Scrogham\, 502-852-6606\, email:testing@louisville.edu
DESCRIPTION:Will you please add Testing Services as part of the offices lis
 ted in Davidson Hall?  Thank you!
URL:https://events.stage.louisville.edu/events/testing-services/2027-01-20
END:VEVENT
END:VCALENDAR