BEGIN:VCALENDAR
VERSION:2.0
PRODID:-//Drupal//recurring_events_ical//2.0//EN
BEGIN:VEVENT
UID:9351e316-0fab-4360-af22-a8235431d663@events.stage.louisville.edu
DTSTAMP:20260424T161912Z
DTSTART:20270128T120000Z
DTEND:20270128T120000Z
SUMMARY:Testing Services
CONTACT:Tammy Jones-Scrogham\, 502-852-6606\, email:testing@louisville.edu
DESCRIPTION:Will you please add Testing Services as part of the offices lis
 ted in Davidson Hall?  Thank you!
URL:https://events.stage.louisville.edu/events/testing-services/2027-01-28
END:VEVENT
END:VCALENDAR