BEGIN:VCALENDAR
VERSION:2.0
PRODID:-//Drupal//recurring_events_ical//2.0//EN
BEGIN:VEVENT
UID:8f683ab7-9c35-4ced-9d68-b9f089adf8ac@events.stage.louisville.edu
DTSTAMP:20260424T175829Z
DTSTART:20270201T120000Z
DTEND:20270201T120000Z
SUMMARY:Testing Services
CONTACT:Tammy Jones-Scrogham\, 502-852-6606\, email:testing@louisville.edu
DESCRIPTION:Will you please add Testing Services as part of the offices lis
 ted in Davidson Hall?  Thank you!
URL:https://events.stage.louisville.edu/events/testing-services/2027-02-01
END:VEVENT
END:VCALENDAR