BEGIN:VCALENDAR
VERSION:2.0
PRODID:-//Drupal//recurring_events_ical//2.0//EN
BEGIN:VEVENT
UID:5281ccc5-7554-437b-b860-82e1b8a14918@events.stage.louisville.edu
DTSTAMP:20260424T162552Z
DTSTART:20270202T120000Z
DTEND:20270202T120000Z
SUMMARY:Testing Services
CONTACT:Tammy Jones-Scrogham\, 502-852-6606\, email:testing@louisville.edu
DESCRIPTION:Will you please add Testing Services as part of the offices lis
 ted in Davidson Hall?  Thank you!
URL:https://events.stage.louisville.edu/events/testing-services/2027-02-02
END:VEVENT
END:VCALENDAR