BEGIN:VCALENDAR
VERSION:2.0
PRODID:-//Drupal//recurring_events_ical//2.0//EN
BEGIN:VEVENT
UID:4e4e0979-c1a4-4d73-ba8e-d164737ec9cc@events.stage.louisville.edu
DTSTAMP:20260424T175919Z
DTSTART:20270204T120000Z
DTEND:20270204T120000Z
SUMMARY:Testing Services
CONTACT:Tammy Jones-Scrogham\, 502-852-6606\, email:testing@louisville.edu
DESCRIPTION:Will you please add Testing Services as part of the offices lis
 ted in Davidson Hall?  Thank you!
URL:https://events.stage.louisville.edu/events/testing-services/2027-02-04
END:VEVENT
END:VCALENDAR