BEGIN:VCALENDAR
VERSION:2.0
PRODID:-//Drupal//recurring_events_ical//2.0//EN
BEGIN:VEVENT
UID:57dfab55-4d98-4488-8275-73f4f169f4fd@events.stage.louisville.edu
DTSTAMP:20260424T175826Z
DTSTART:20270208T120000Z
DTEND:20270208T120000Z
SUMMARY:Testing Services
CONTACT:Tammy Jones-Scrogham\, 502-852-6606\, email:testing@louisville.edu
DESCRIPTION:Will you please add Testing Services as part of the offices lis
 ted in Davidson Hall?  Thank you!
URL:https://events.stage.louisville.edu/events/testing-services/2027-02-08
END:VEVENT
END:VCALENDAR