BEGIN:VCALENDAR
VERSION:2.0
PRODID:-//Drupal//recurring_events_ical//2.0//EN
BEGIN:VEVENT
UID:098b0106-2e16-4a82-8ce5-6c4be0b7b566@events.stage.louisville.edu
DTSTAMP:20260424T162620Z
DTSTART:20270209T120000Z
DTEND:20270209T120000Z
SUMMARY:Testing Services
CONTACT:Tammy Jones-Scrogham\, 502-852-6606\, email:testing@louisville.edu
DESCRIPTION:Will you please add Testing Services as part of the offices lis
 ted in Davidson Hall?  Thank you!
URL:https://events.stage.louisville.edu/events/testing-services/2027-02-09
END:VEVENT
END:VCALENDAR