BEGIN:VCALENDAR
VERSION:2.0
PRODID:-//Drupal//recurring_events_ical//2.0//EN
BEGIN:VEVENT
UID:4b60efb0-765c-4461-99a7-1914f5406e29@events.stage.louisville.edu
DTSTAMP:20260424T162335Z
DTSTART:20270216T120000Z
DTEND:20270216T120000Z
SUMMARY:Testing Services
CONTACT:Tammy Jones-Scrogham\, 502-852-6606\, email:testing@louisville.edu
DESCRIPTION:Will you please add Testing Services as part of the offices lis
 ted in Davidson Hall?  Thank you!
URL:https://events.stage.louisville.edu/events/testing-services/2027-02-16
END:VEVENT
END:VCALENDAR