BEGIN:VCALENDAR
VERSION:2.0
PRODID:-//Drupal//recurring_events_ical//2.0//EN
BEGIN:VEVENT
UID:4f234417-01b0-4a48-a571-9042fe7972b9@events.stage.louisville.edu
DTSTAMP:20260424T175831Z
DTSTART:20270301T120000Z
DTEND:20270301T120000Z
SUMMARY:Testing Services
CONTACT:Tammy Jones-Scrogham\, 502-852-6606\, email:testing@louisville.edu
DESCRIPTION:Will you please add Testing Services as part of the offices lis
 ted in Davidson Hall?  Thank you!
URL:https://events.stage.louisville.edu/events/testing-services/2027-03-01
END:VEVENT
END:VCALENDAR