BEGIN:VCALENDAR
VERSION:2.0
PRODID:-//Drupal//recurring_events_ical//2.0//EN
BEGIN:VEVENT
UID:85d84c4d-b6d3-474e-a7ec-25b4be9130cd@events.stage.louisville.edu
DTSTAMP:20260424T162233Z
DTSTART:20270310T120000Z
DTEND:20270310T120000Z
SUMMARY:Testing Services
CONTACT:Tammy Jones-Scrogham\, 502-852-6606\, email:testing@louisville.edu
DESCRIPTION:Will you please add Testing Services as part of the offices lis
 ted in Davidson Hall?  Thank you!
URL:https://events.stage.louisville.edu/events/testing-services/2027-03-10
END:VEVENT
END:VCALENDAR