BEGIN:VCALENDAR
VERSION:2.0
PRODID:-//Drupal//recurring_events_ical//2.0//EN
BEGIN:VEVENT
UID:bf18f534-ece5-416c-b573-b7c5bbabef26@events.stage.louisville.edu
DTSTAMP:20260424T162439Z
DTSTART:20270315T110000Z
DTEND:20270315T110000Z
SUMMARY:Testing Services
CONTACT:Tammy Jones-Scrogham\, 502-852-6606\, email:testing@louisville.edu
DESCRIPTION:Will you please add Testing Services as part of the offices lis
 ted in Davidson Hall?  Thank you!
URL:https://events.stage.louisville.edu/events/testing-services/2027-03-15
END:VEVENT
END:VCALENDAR