BEGIN:VCALENDAR
VERSION:2.0
PRODID:-//Drupal//recurring_events_ical//2.0//EN
BEGIN:VEVENT
UID:8d838242-1322-410b-9a93-aaf72ce8d30d@events.stage.louisville.edu
DTSTAMP:20260424T162311Z
DTSTART:20270318T110000Z
DTEND:20270318T110000Z
SUMMARY:Testing Services
CONTACT:Tammy Jones-Scrogham\, 502-852-6606\, email:testing@louisville.edu
DESCRIPTION:Will you please add Testing Services as part of the offices lis
 ted in Davidson Hall?  Thank you!
URL:https://events.stage.louisville.edu/events/testing-services/2027-03-18
END:VEVENT
END:VCALENDAR