BEGIN:VCALENDAR
VERSION:2.0
PRODID:-//Drupal//recurring_events_ical//2.0//EN
BEGIN:VEVENT
UID:1a4f1c72-023f-4b73-b4ff-47b9b75ff56f@events.stage.louisville.edu
DTSTAMP:20260424T162115Z
DTSTART:20270322T110000Z
DTEND:20270322T110000Z
SUMMARY:Testing Services
CONTACT:Tammy Jones-Scrogham\, 502-852-6606\, email:testing@louisville.edu
DESCRIPTION:Will you please add Testing Services as part of the offices lis
 ted in Davidson Hall?  Thank you!
URL:https://events.stage.louisville.edu/events/testing-services/2027-03-22
END:VEVENT
END:VCALENDAR