BEGIN:VCALENDAR
VERSION:2.0
PRODID:-//Drupal//recurring_events_ical//2.0//EN
BEGIN:VEVENT
UID:d76d9b85-159a-4af9-8a73-b8b76afb1a5c@events.stage.louisville.edu
DTSTAMP:20260424T175902Z
DTSTART:20270401T110000Z
DTEND:20270401T110000Z
SUMMARY:Testing Services
CONTACT:Tammy Jones-Scrogham\, 502-852-6606\, email:testing@louisville.edu
DESCRIPTION:Will you please add Testing Services as part of the offices lis
 ted in Davidson Hall?  Thank you!
URL:https://events.stage.louisville.edu/events/testing-services/2027-04-01
END:VEVENT
END:VCALENDAR