BEGIN:VCALENDAR
VERSION:2.0
PRODID:-//Drupal//recurring_events_ical//2.0//EN
BEGIN:VEVENT
UID:70c244d9-4788-4c88-9ba9-27eb3355fb6a@events.stage.louisville.edu
DTSTAMP:20260424T180018Z
DTSTART:20270405T110000Z
DTEND:20270405T110000Z
SUMMARY:Testing Services
CONTACT:Tammy Jones-Scrogham\, 502-852-6606\, email:testing@louisville.edu
DESCRIPTION:Will you please add Testing Services as part of the offices lis
 ted in Davidson Hall?  Thank you!
URL:https://events.stage.louisville.edu/events/testing-services/2027-04-05
END:VEVENT
END:VCALENDAR