BEGIN:VCALENDAR
VERSION:2.0
PRODID:-//Drupal//recurring_events_ical//2.0//EN
BEGIN:VEVENT
UID:d9cf5662-51c5-485c-8df8-f1f7c0b7365e@events.stage.louisville.edu
DTSTAMP:20260424T175902Z
DTSTART:20270406T110000Z
DTEND:20270406T110000Z
SUMMARY:Testing Services
CONTACT:Tammy Jones-Scrogham\, 502-852-6606\, email:testing@louisville.edu
DESCRIPTION:Will you please add Testing Services as part of the offices lis
 ted in Davidson Hall?  Thank you!
URL:https://events.stage.louisville.edu/events/testing-services/2027-04-06
END:VEVENT
END:VCALENDAR