BEGIN:VCALENDAR
VERSION:2.0
PRODID:-//Drupal//recurring_events_ical//2.0//EN
BEGIN:VEVENT
UID:7ffd8924-fc3e-45c9-a81e-b7be0d51ad73@events.stage.louisville.edu
DTSTAMP:20260424T175831Z
DTSTART:20270407T110000Z
DTEND:20270407T110000Z
SUMMARY:Testing Services
CONTACT:Tammy Jones-Scrogham\, 502-852-6606\, email:testing@louisville.edu
DESCRIPTION:Will you please add Testing Services as part of the offices lis
 ted in Davidson Hall?  Thank you!
URL:https://events.stage.louisville.edu/events/testing-services/2027-04-07
END:VEVENT
END:VCALENDAR