BEGIN:VCALENDAR
VERSION:2.0
PRODID:-//Drupal//recurring_events_ical//2.0//EN
BEGIN:VEVENT
UID:e7e4c3d6-e198-493a-97e4-2da146779e53@events.stage.louisville.edu
DTSTAMP:20260424T162229Z
DTSTART:20270408T110000Z
DTEND:20270408T110000Z
SUMMARY:Testing Services
CONTACT:Tammy Jones-Scrogham\, 502-852-6606\, email:testing@louisville.edu
DESCRIPTION:Will you please add Testing Services as part of the offices lis
 ted in Davidson Hall?  Thank you!
URL:https://events.stage.louisville.edu/events/testing-services/2027-04-08
END:VEVENT
END:VCALENDAR