BEGIN:VCALENDAR
VERSION:2.0
PRODID:-//Drupal//recurring_events_ical//2.0//EN
BEGIN:VEVENT
UID:8da36c3b-76d6-4ecd-a4f3-148a08d47ce9@events.stage.louisville.edu
DTSTAMP:20260424T172744Z
DTSTART:20270422T110000Z
DTEND:20270422T110000Z
SUMMARY:Testing Services
CONTACT:Tammy Jones-Scrogham\, 502-852-6606\, email:testing@louisville.edu
DESCRIPTION:Will you please add Testing Services as part of the offices lis
 ted in Davidson Hall?  Thank you!
URL:https://events.stage.louisville.edu/events/testing-services/2027-04-22
END:VEVENT
END:VCALENDAR