BEGIN:VCALENDAR
VERSION:2.0
PRODID:-//Drupal//recurring_events_ical//2.0//EN
BEGIN:VEVENT
UID:c6739bed-2898-4f9a-bd97-3eff55d3c263@events.stage.louisville.edu
DTSTAMP:20260424T162001Z
DTSTART:20270506T110000Z
DTEND:20270506T110000Z
SUMMARY:Testing Services
CONTACT:Tammy Jones-Scrogham\, 502-852-6606\, email:testing@louisville.edu
DESCRIPTION:Will you please add Testing Services as part of the offices lis
 ted in Davidson Hall?  Thank you!
URL:https://events.stage.louisville.edu/events/testing-services/2027-05-06
END:VEVENT
END:VCALENDAR