BEGIN:VCALENDAR
VERSION:2.0
PRODID:-//Drupal//recurring_events_ical//2.0//EN
BEGIN:VEVENT
UID:79c84ae4-baa4-4282-abea-d570d5b9b34c@events.stage.louisville.edu
DTSTAMP:20260424T162219Z
DTSTART:20270510T110000Z
DTEND:20270510T110000Z
SUMMARY:Testing Services
CONTACT:Tammy Jones-Scrogham\, 502-852-6606\, email:testing@louisville.edu
DESCRIPTION:Will you please add Testing Services as part of the offices lis
 ted in Davidson Hall?  Thank you!
URL:https://events.stage.louisville.edu/events/testing-services/2027-05-10
END:VEVENT
END:VCALENDAR