BEGIN:VCALENDAR
VERSION:2.0
PRODID:-//Drupal//recurring_events_ical//2.0//EN
BEGIN:VEVENT
UID:6b14512b-c7dd-467a-9c23-e71567f99cc5@events.stage.louisville.edu
DTSTAMP:20260424T162449Z
DTSTART:20270511T110000Z
DTEND:20270511T110000Z
SUMMARY:Testing Services
CONTACT:Tammy Jones-Scrogham\, 502-852-6606\, email:testing@louisville.edu
DESCRIPTION:Will you please add Testing Services as part of the offices lis
 ted in Davidson Hall?  Thank you!
URL:https://events.stage.louisville.edu/events/testing-services/2027-05-11
END:VEVENT
END:VCALENDAR