BEGIN:VCALENDAR
VERSION:2.0
PRODID:-//Drupal//recurring_events_ical//2.0//EN
BEGIN:VEVENT
UID:7b3563bb-3b34-486a-8333-f607911089fd@events.stage.louisville.edu
DTSTAMP:20260424T175923Z
DTSTART:20270517T110000Z
DTEND:20270517T110000Z
SUMMARY:Testing Services
CONTACT:Tammy Jones-Scrogham\, 502-852-6606\, email:testing@louisville.edu
DESCRIPTION:Will you please add Testing Services as part of the offices lis
 ted in Davidson Hall?  Thank you!
URL:https://events.stage.louisville.edu/events/testing-services/2027-05-17
END:VEVENT
END:VCALENDAR