BEGIN:VCALENDAR
VERSION:2.0
PRODID:-//Drupal//recurring_events_ical//2.0//EN
BEGIN:VEVENT
UID:1c7eb4bc-8954-4ff0-bdfb-f504ea0640c7@events.stage.louisville.edu
DTSTAMP:20260424T162234Z
DTSTART:20270525T110000Z
DTEND:20270525T110000Z
SUMMARY:Testing Services
CONTACT:Tammy Jones-Scrogham\, 502-852-6606\, email:testing@louisville.edu
DESCRIPTION:Will you please add Testing Services as part of the offices lis
 ted in Davidson Hall?  Thank you!
URL:https://events.stage.louisville.edu/events/testing-services/2027-05-25
END:VEVENT
END:VCALENDAR