BEGIN:VCALENDAR
VERSION:2.0
PRODID:-//Drupal//recurring_events_ical//2.0//EN
BEGIN:VEVENT
UID:a10c251d-0ba6-4e37-b1e8-06af9b68f18f@events.stage.louisville.edu
DTSTAMP:20260424T161924Z
DTSTART:20270601T110000Z
DTEND:20270601T110000Z
SUMMARY:Testing Services
CONTACT:Tammy Jones-Scrogham\, 502-852-6606\, email:testing@louisville.edu
DESCRIPTION:Will you please add Testing Services as part of the offices lis
 ted in Davidson Hall?  Thank you!
URL:https://events.stage.louisville.edu/events/testing-services/2027-06-01
END:VEVENT
END:VCALENDAR