BEGIN:VCALENDAR
VERSION:2.0
PRODID:-//Drupal//recurring_events_ical//2.0//EN
BEGIN:VEVENT
UID:7810cd25-4acd-432b-bb8f-6e5e61637f43@events.stage.louisville.edu
DTSTAMP:20260424T175709Z
DTSTART:20270607T110000Z
DTEND:20270607T110000Z
SUMMARY:Testing Services
CONTACT:Tammy Jones-Scrogham\, 502-852-6606\, email:testing@louisville.edu
DESCRIPTION:Will you please add Testing Services as part of the offices lis
 ted in Davidson Hall?  Thank you!
URL:https://events.stage.louisville.edu/events/testing-services/2027-06-07
END:VEVENT
END:VCALENDAR