BEGIN:VCALENDAR
VERSION:2.0
PRODID:-//Drupal//recurring_events_ical//2.0//EN
BEGIN:VEVENT
UID:c6c29bd4-1bcf-4454-83f4-0393c7677847@events.stage.louisville.edu
DTSTAMP:20260424T164905Z
DTSTART:20270630T110000Z
DTEND:20270630T110000Z
SUMMARY:Testing Services
CONTACT:Tammy Jones-Scrogham\, 502-852-6606\, email:testing@louisville.edu
DESCRIPTION:Will you please add Testing Services as part of the offices lis
 ted in Davidson Hall?  Thank you!
URL:https://events.stage.louisville.edu/events/testing-services/2027-06-30
END:VEVENT
END:VCALENDAR