BEGIN:VCALENDAR
VERSION:2.0
PRODID:-//Drupal//recurring_events_ical//2.0//EN
BEGIN:VEVENT
UID:335d8ca6-d2eb-47d7-b33b-9e26cba1cb0c@events.stage.louisville.edu
DTSTAMP:20260424T161925Z
DTSTART:20270728T110000Z
DTEND:20270728T110000Z
SUMMARY:Testing Services
CONTACT:Tammy Jones-Scrogham\, 502-852-6606\, email:testing@louisville.edu
DESCRIPTION:Will you please add Testing Services as part of the offices lis
 ted in Davidson Hall?  Thank you!
URL:https://events.stage.louisville.edu/events/testing-services/2027-07-28
END:VEVENT
END:VCALENDAR