BEGIN:VCALENDAR
VERSION:2.0
PRODID:-//Drupal//recurring_events_ical//2.0//EN
BEGIN:VEVENT
UID:b4850bb8-17a9-482a-a3a1-b94a53a26f4f@events.stage.louisville.edu
DTSTAMP:20260424T161915Z
DTSTART:20270729T110000Z
DTEND:20270729T110000Z
SUMMARY:Testing Services
CONTACT:Tammy Jones-Scrogham\, 502-852-6606\, email:testing@louisville.edu
DESCRIPTION:Will you please add Testing Services as part of the offices lis
 ted in Davidson Hall?  Thank you!
URL:https://events.stage.louisville.edu/events/testing-services/2027-07-29
END:VEVENT
END:VCALENDAR