BEGIN:VCALENDAR
VERSION:2.0
PRODID:-//Drupal//recurring_events_ical//2.0//EN
BEGIN:VEVENT
UID:cd895c50-a6ac-428a-af95-b1bd4adaa9a0@events.stage.louisville.edu
DTSTAMP:20260424T180016Z
DTSTART:20270802T110000Z
DTEND:20270802T110000Z
SUMMARY:Testing Services
CONTACT:Tammy Jones-Scrogham\, 502-852-6606\, email:testing@louisville.edu
DESCRIPTION:Will you please add Testing Services as part of the offices lis
 ted in Davidson Hall?  Thank you!
URL:https://events.stage.louisville.edu/events/testing-services/2027-08-02
END:VEVENT
END:VCALENDAR